BEGIN:VCALENDAR
VERSION:2.0
PRODID:-//Welcome to The Columbia University Seminars - ECPv6.15.14//NONSGML v1.0//EN
CALSCALE:GREGORIAN
METHOD:PUBLISH
X-ORIGINAL-URL:https://universityseminars.columbia.edu
X-WR-CALDESC:Events for Welcome to The Columbia University Seminars
REFRESH-INTERVAL;VALUE=DURATION:PT1H
X-Robots-Tag:noindex
X-PUBLISHED-TTL:PT1H
BEGIN:VTIMEZONE
TZID:America/New_York
BEGIN:DAYLIGHT
TZOFFSETFROM:-0500
TZOFFSETTO:-0400
TZNAME:EDT
DTSTART:20230312T070000
END:DAYLIGHT
BEGIN:STANDARD
TZOFFSETFROM:-0400
TZOFFSETTO:-0500
TZNAME:EST
DTSTART:20231105T060000
END:STANDARD
BEGIN:DAYLIGHT
TZOFFSETFROM:-0500
TZOFFSETTO:-0400
TZNAME:EDT
DTSTART:20240310T070000
END:DAYLIGHT
BEGIN:STANDARD
TZOFFSETFROM:-0400
TZOFFSETTO:-0500
TZNAME:EST
DTSTART:20241103T060000
END:STANDARD
BEGIN:DAYLIGHT
TZOFFSETFROM:-0500
TZOFFSETTO:-0400
TZNAME:EDT
DTSTART:20250309T070000
END:DAYLIGHT
BEGIN:STANDARD
TZOFFSETFROM:-0400
TZOFFSETTO:-0500
TZNAME:EST
DTSTART:20251102T060000
END:STANDARD
END:VTIMEZONE
BEGIN:VEVENT
DTSTART;VALUE=DATE:20241104
DTEND;VALUE=DATE:20241105
DTSTAMP:20260425T221753
CREATED:20240611T191741Z
LAST-MODIFIED:20240709T162554Z
UID:10000095-1730678400-1730764799@universityseminars.columbia.edu
SUMMARY:Academic Holiday
DESCRIPTION:Morningside Campus is closed. Faculty House is closed for seminars and events.
URL:https://universityseminars.columbia.edu/event/academic-holiday/
LOCATION:Faculty House\, 64 Morningside Drive\, New York
CATEGORIES:Holiday
END:VEVENT
BEGIN:VEVENT
DTSTART;VALUE=DATE:20241105
DTEND;VALUE=DATE:20241106
DTSTAMP:20260425T221753
CREATED:20240611T191825Z
LAST-MODIFIED:20240709T162617Z
UID:10000096-1730764800-1730851199@universityseminars.columbia.edu
SUMMARY:Election Day
DESCRIPTION:Morningside Campus is closed. Faculty House is closed for seminars and events.
URL:https://universityseminars.columbia.edu/event/election-day/
LOCATION:Faculty House\, 64 Morningside Drive\, New York
CATEGORIES:Holiday
END:VEVENT
BEGIN:VEVENT
DTSTART;VALUE=DATE:20241127
DTEND;VALUE=DATE:20241130
DTSTAMP:20260425T221754
CREATED:20240611T191924Z
LAST-MODIFIED:20240709T162601Z
UID:10000097-1732665600-1732924799@universityseminars.columbia.edu
SUMMARY:Thanksgiving Break
DESCRIPTION:Morningside Campus is closed. Faculty House is closed for seminars and events.
URL:https://universityseminars.columbia.edu/event/thanksgiving-break/
LOCATION:Columbia University
CATEGORIES:Holiday
END:VEVENT
END:VCALENDAR