BEGIN:VCALENDAR
VERSION:2.0
PRODID:-//Welcome to The Columbia University Seminars - ECPv6.15.14//NONSGML v1.0//EN
CALSCALE:GREGORIAN
METHOD:PUBLISH
X-WR-CALNAME:Welcome to The Columbia University Seminars
X-ORIGINAL-URL:https://universityseminars.columbia.edu
X-WR-CALDESC:Events for Welcome to The Columbia University Seminars
REFRESH-INTERVAL;VALUE=DURATION:PT1H
X-Robots-Tag:noindex
X-PUBLISHED-TTL:PT1H
BEGIN:VTIMEZONE
TZID:America/New_York
BEGIN:DAYLIGHT
TZOFFSETFROM:-0500
TZOFFSETTO:-0400
TZNAME:EDT
DTSTART:20240310T070000
END:DAYLIGHT
BEGIN:STANDARD
TZOFFSETFROM:-0400
TZOFFSETTO:-0500
TZNAME:EST
DTSTART:20241103T060000
END:STANDARD
BEGIN:DAYLIGHT
TZOFFSETFROM:-0500
TZOFFSETTO:-0400
TZNAME:EDT
DTSTART:20250309T070000
END:DAYLIGHT
BEGIN:STANDARD
TZOFFSETFROM:-0400
TZOFFSETTO:-0500
TZNAME:EST
DTSTART:20251102T060000
END:STANDARD
BEGIN:DAYLIGHT
TZOFFSETFROM:-0500
TZOFFSETTO:-0400
TZNAME:EDT
DTSTART:20260308T070000
END:DAYLIGHT
BEGIN:STANDARD
TZOFFSETFROM:-0400
TZOFFSETTO:-0500
TZNAME:EST
DTSTART:20261101T060000
END:STANDARD
END:VTIMEZONE
BEGIN:VEVENT
DTSTART;TZID=America/New_York:20251110T180000
DTEND;TZID=America/New_York:20251110T213000
DTSTAMP:20260420T044752
CREATED:20250408T150543Z
LAST-MODIFIED:20251017T165421Z
UID:10000117-1762797600-1762810200@universityseminars.columbia.edu
SUMMARY:Schoff Memorial Lectures | Lecture I
DESCRIPTION:Postponed until Fall 2027\nArt of the Lecture\nBrent Hayes Edwards\nPeng Family Professor of English and Comparative Literature \nLecture I: “Talking in and out of School” \nAlthough lecture courses are a staple of university teaching\, there is oddly little scholarship considering the lecture as a format. This series of lectures is framed neither as a straightforward history nor as a practical how-to guide\, but instead as an argument for the unique generic qualities and political stakes of the lecture as a mode that hovers between pedagogy and performance. \nBrent Hayes Edwards is the Peng Family Professor of English and Comparative Literature at Columbia University\, where he is also affiliated with the Center for Jazz Studies and the Institute for Comparative Literature and Society. Since 2021 he has served as the editor of the journal PMLA. Edwards’s books include The Practice of Diaspora: Literature\, Translation\, and the Rise of Black Internationalism (Harvard UP\, 2003); Epistrophies: Jazz and the Literary Imagination (Harvard UP\, 2017); and the English translation of Michel Leiris’s Phantom Africa (Seagull\, 2017). He is the Harlem Renaissance period editor of the Norton Anthology of African American Literature (4th Ed.\, 2025) and has published scholarly editions of classic works by W. E. B. Du Bois\, Frederick Douglass\, Joseph Conrad\, and Claude McKay. His most recent books are Écrire le monde noir (Rot-Bo-Krik\, 2024)\, a collection of the interwar writings of the pioneering Martinican intellectual Paulette Nardal; and Easily Slip into Another World (Knopf\, 2023)\, the co-written autobiography of the Pulitzer Prize-winning composer Henry Threadgill\, which won the 2024 American Book Award. Edwards was a Guggenheim Fellow in 2015\, and in 2020 he was elected to the American Academy of Arts and Sciences. \nLectures are free and open to the public. Registration is required.
URL:https://universityseminars.columbia.edu/event/leonard-hastings-schoff-memorial-lectures/
LOCATION:Faculty House\, 64 Morningside Drive\, New York
CATEGORIES:Annual Events,Leonard Hastings Schoff Memorial Lecture Series,Spotlight Event
END:VEVENT
END:VCALENDAR