BEGIN:VCALENDAR
VERSION:2.0
PRODID:-//Welcome to The Columbia University Seminars - ECPv6.15.14//NONSGML v1.0//EN
CALSCALE:GREGORIAN
METHOD:PUBLISH
X-ORIGINAL-URL:https://universityseminars.columbia.edu
X-WR-CALDESC:Events for Welcome to The Columbia University Seminars
REFRESH-INTERVAL;VALUE=DURATION:PT1H
X-Robots-Tag:noindex
X-PUBLISHED-TTL:PT1H
BEGIN:VTIMEZONE
TZID:America/New_York
BEGIN:DAYLIGHT
TZOFFSETFROM:-0500
TZOFFSETTO:-0400
TZNAME:EDT
DTSTART:20240310T070000
END:DAYLIGHT
BEGIN:STANDARD
TZOFFSETFROM:-0400
TZOFFSETTO:-0500
TZNAME:EST
DTSTART:20241103T060000
END:STANDARD
BEGIN:DAYLIGHT
TZOFFSETFROM:-0500
TZOFFSETTO:-0400
TZNAME:EDT
DTSTART:20250309T070000
END:DAYLIGHT
BEGIN:STANDARD
TZOFFSETFROM:-0400
TZOFFSETTO:-0500
TZNAME:EST
DTSTART:20251102T060000
END:STANDARD
BEGIN:DAYLIGHT
TZOFFSETFROM:-0500
TZOFFSETTO:-0400
TZNAME:EDT
DTSTART:20260308T070000
END:DAYLIGHT
BEGIN:STANDARD
TZOFFSETFROM:-0400
TZOFFSETTO:-0500
TZNAME:EST
DTSTART:20261101T060000
END:STANDARD
END:VTIMEZONE
BEGIN:VEVENT
DTSTART;TZID=America/New_York:20250507T173000
DTEND;TZID=America/New_York:20250507T220000
DTSTAMP:20260420T074240
CREATED:20250408T132402Z
LAST-MODIFIED:20250408T145140Z
UID:10000116-1746639000-1746655200@universityseminars.columbia.edu
SUMMARY:Annual Dinner and Tannenbaum Lecture
DESCRIPTION:This event is open to members of The University Seminars community only. Registration is required. \nThis year’s Tannenbaum Lecturer is Margo Jefferson and the Tannenbaum-Warner Award recipient is Robert Pollack. \nTANNENBAUM LECTURE \nCriticism as Intellectual Inquiry and Emotional Invention \nBeing an Other in America teaches you to imagine what can’t imagine you. I was thinking\, when I first wrote this\, of certain kinds of otherness. Otherness in terms of race\, gender\, and class; in terms of temperament and aesthetics. I was thinking about the charged relations between fact\, practice\, ideology\, and passion when one writes criticism. And of the social structures that allow one to discuss any of this and be listened to. This is all part of what’s called Critical Authority. Critical authority traditionally favors omniscience. What happens when we treat critical authority as a process that encourages vulnerability\, ambiguity\, and ambivalence? A process that allows us to examine our own responses – anger\, despair\, exhilaration\, ecstatic confusion?  What happens when we’re willing to question ourselves as scrupulously as we do our subjects: to keep re-inventing our critic-personae?  \nMargo Jefferson is a critic and memoirist. She has published three books: On Michael Jackson\, Negroland\, and Constructing a Nervous System. She received a Pulitzer Prize for Criticism when she was a staff writer at The New York Times. She has also received a National Book Critics Circle Award for Autobiography\, a Windham Campbell Award for nonfiction and a Rathbones Folio Award for nonfiction. Her reviews and essays have been published in The Guardian\, New York Magazine\, The Washington Post and other periodicals. She teaches at Columbia University in the Writing Program. \nTANNENBAUM-WARNER AWARD \nFor Distinguished Scholarship and Exceptional Service to The University Seminars \nRobert Elliot Pollack (b.1940) grew up in the Seagate neighborhood of Brooklyn where he attended public schools. The first in his family to finish high school (his father ran a factory that manufactured cardboard boxes)\, Bob went on to major in physics at Columbia University\, graduating from the College in 1961 and serving as Dean of Columbia College from 1982 to 1989. In his freshman year\, he took a class with Robert Belknap\, whom he succeeded as Director of The University Seminars (from 2011 to 2019). He earned a PhD in biological sciences from Brandeis University in 1966 and was a postdoctoral fellow in pathology with Howard Green at NYU Medical Center and at the Weizmann Institute in Israel with Ernest Winocour. He was then recruited to Cold Spring Harbor Laboratory by James Watson to establish a research program on reversion of cancer cells. He received tenure at SUNY Stony Brook Medical Center before returning to Columbia in 1978. He received the Alexander Hamilton Medal from Columbia University\, the Gershom Mendes Seixas Award from the Columbia/Barnard Hillel\, and held a Guggenheim Fellowship. His 1998 Schoff Lectures\, supported by The University Seminars and Columbia University Press\, led to his third book The Faith of Biology and the Biology of Faith. Bob retired from Columbia in 2023 as Professor Emeritus of Biological Sciences. He credits his wife since 1961\, the artist Amy Pollack\, for teaching him the central importance of not being solely in charge.
URL:https://universityseminars.columbia.edu/event/78th-annual-dinner-and-tannenbaum-lecture/
LOCATION:Faculty House\, 64 Morningside Drive\, New York
CATEGORIES:Annual Events
ATTACH;FMTTYPE=image/jpeg:https://universityseminars.columbia.edu/wp-content/uploads/2025/04/2025ANDIN_Poster.sm_.avif
END:VEVENT
BEGIN:VEVENT
DTSTART;VALUE=DATE:20250516
DTEND;VALUE=DATE:20250517
DTSTAMP:20260420T074240
CREATED:20241119T152201Z
LAST-MODIFIED:20241119T152223Z
UID:10000111-1747353600-1747439999@universityseminars.columbia.edu
SUMMARY:Spring Term Ends
DESCRIPTION:
URL:https://universityseminars.columbia.edu/event/spring-term-ends/
LOCATION:Columbia University
CATEGORIES:Annual Events
END:VEVENT
BEGIN:VEVENT
DTSTART;VALUE=DATE:20250521
DTEND;VALUE=DATE:20250522
DTSTAMP:20260420T074240
CREATED:20241119T151954Z
LAST-MODIFIED:20241119T152337Z
UID:10000110-1747785600-1747871999@universityseminars.columbia.edu
SUMMARY:Commencement
DESCRIPTION:Faculty House is closed for seminars and events.
URL:https://universityseminars.columbia.edu/event/commencement/
LOCATION:Columbia University
CATEGORIES:Annual Events
END:VEVENT
BEGIN:VEVENT
DTSTART;VALUE=DATE:20250523
DTEND;VALUE=DATE:20250524
DTSTAMP:20260420T074240
CREATED:20241120T105209Z
LAST-MODIFIED:20241120T110434Z
UID:10000113-1747958400-1748044799@universityseminars.columbia.edu
SUMMARY:"Ab uno disce omnes": A Conference in Honor of Christopher Baswell
DESCRIPTION:This conference celebrates the long and distinguished career of Christopher Baswell (Ann Whitney Olin Chair of English\, Barnard College; Professor of English and Comparative Literature\, Columbia University)\, a leading scholar of medieval literature. Baswell’s work combines analytical precision\, theoretical sophistication\, and astonishing erudition to probe a wide range of topics\, from medieval reception of the classics\, to multilingualism\, to disability studies\, to women’s poetry across time. He is the author of Virgil in Medieval England: Figuring the Aeneid from the Twelfth Century to Chaucer (Cambridge: Cambridge University Press\, 1995)\, a dazzling demonstration of the ways manuscript study can inform literary analysis\, and of many articles that are required reading for anyone working on medieval literary study today. Baswell has transformed our understanding of the interactions among Latin\, French\, and Middle English literary traditions in the Middle Ages. This conference features presentations from Chris’s former students and colleagues related to his field-shaping research. \nREGISTRATION LINK
URL:https://universityseminars.columbia.edu/event/ab-uno-disce-omnes-a-conference-in-honor-of-christopher-baswell/
LOCATION:Butler Library\, 535 West 114th Street\, New York\, New York\, 10027
CATEGORIES:Conferences/Symposia
ATTACH;FMTTYPE=image/png:https://universityseminars.columbia.edu/wp-content/uploads/2024/11/Baswell-Flyer-11-19.web_-png.avif
END:VEVENT
BEGIN:VEVENT
DTSTART;VALUE=DATE:20250526
DTEND;VALUE=DATE:20250527
DTSTAMP:20260420T074240
CREATED:20241119T152514Z
LAST-MODIFIED:20241119T152514Z
UID:10000112-1748217600-1748303999@universityseminars.columbia.edu
SUMMARY:Memorial Day
DESCRIPTION:Morningside Campus is closed. Faculty House is closed for seminars and events.
URL:https://universityseminars.columbia.edu/event/memorial-day/
LOCATION:Columbia University
CATEGORIES:Holiday
END:VEVENT
END:VCALENDAR