BEGIN:VCALENDAR
VERSION:2.0
PRODID:-//Welcome to The Columbia University Seminars - ECPv6.15.14//NONSGML v1.0//EN
CALSCALE:GREGORIAN
METHOD:PUBLISH
X-WR-CALNAME:Welcome to The Columbia University Seminars
X-ORIGINAL-URL:https://universityseminars.columbia.edu
X-WR-CALDESC:Events for Welcome to The Columbia University Seminars
REFRESH-INTERVAL;VALUE=DURATION:PT1H
X-Robots-Tag:noindex
X-PUBLISHED-TTL:PT1H
BEGIN:VTIMEZONE
TZID:America/New_York
BEGIN:DAYLIGHT
TZOFFSETFROM:-0500
TZOFFSETTO:-0400
TZNAME:EDT
DTSTART:20250309T070000
END:DAYLIGHT
BEGIN:STANDARD
TZOFFSETFROM:-0400
TZOFFSETTO:-0500
TZNAME:EST
DTSTART:20251102T060000
END:STANDARD
BEGIN:DAYLIGHT
TZOFFSETFROM:-0500
TZOFFSETTO:-0400
TZNAME:EDT
DTSTART:20260308T070000
END:DAYLIGHT
BEGIN:STANDARD
TZOFFSETFROM:-0400
TZOFFSETTO:-0500
TZNAME:EST
DTSTART:20261101T060000
END:STANDARD
BEGIN:DAYLIGHT
TZOFFSETFROM:-0500
TZOFFSETTO:-0400
TZNAME:EDT
DTSTART:20270314T070000
END:DAYLIGHT
BEGIN:STANDARD
TZOFFSETFROM:-0400
TZOFFSETTO:-0500
TZNAME:EST
DTSTART:20271107T060000
END:STANDARD
END:VTIMEZONE
BEGIN:VEVENT
DTSTART;VALUE=DATE:20260424
DTEND;VALUE=DATE:20260427
DTSTAMP:20260420T102859
CREATED:20260216T220312Z
LAST-MODIFIED:20260216T225134Z
UID:10000146-1776988800-1777247999@universityseminars.columbia.edu
SUMMARY:SOF@50: Humanities in the World
DESCRIPTION:Co-Sponsored by The University Seminars on Cultural Memory and Public Humanities: Expanding Scholarship and Pedagogy \n(Faculty House and Heyman Center for The Humanities) \nFor the past 50 years\, the Columbia Society of Fellows has welcomed early-career researchers into a community of scholars whose research projects and teaching open new avenues of inquiry both within and across disciplines.  From its earliest years when it gathered in Faculty House\, the Society of Fellows has enjoyed a longstanding partnership with University Seminars in bringing together researchers to think together.  In celebration of this partnership and of the milestone anniversaries of both the Society of Fellows and The University Seminars\, the Society of Fellows and Heyman Center for the Humanities and The University Seminars on Cultural Memory (#717) and Public Humanities (#805) are hosting a three-day conference\, Humanities in the World\, to welcome scholars from across the generations to discuss topics and questions that are of particular urgency for scholar-citizens at the present time—and to celebrate what we have accomplished together.
URL:https://universityseminars.columbia.edu/event/sof50-humanities-in-the-world/
LOCATION:Faculty House\, 64 Morningside Drive\, New York
CATEGORIES:Conferences/Symposia
END:VEVENT
BEGIN:VEVENT
DTSTART;TZID=America/New_York:20260424T090000
DTEND;TZID=America/New_York:20260424T160000
DTSTAMP:20260420T102859
CREATED:20260121T203008Z
LAST-MODIFIED:20260309T150313Z
UID:10000145-1777021200-1777046400@universityseminars.columbia.edu
SUMMARY:Environmental and Racial Justice in Shakespeare Studies
DESCRIPTION:Sponsored by The University Seminar on Shakespeare \nThis symposium brings together scholars and artists to consider the intersections of racial\, social\, and environmental justice in the works of Shakespeare and his contemporaries. The interlinked racial and environmental crises of our time seem to compound faster than mitigating efforts\, let alone the human imagination\, can keep up. But the reparative work they demand requires a deep investigation of the early modern past. As the imaginative literature from this period demonstrates\, premodern ideas of racial difference were inseparable from questions of geographical distance\, understandings about “nature\,” and the complexity of the more-than-human world more broadly. By bringing together scholars and artists who have been considering questions of racialization and environmental issues in early modernity\, this symposium will help us envision new methods and practices that enable us to engage ethically with the complex entanglements of racial and environmental injustice in Shakespeare’s world and in ours. \nSCHEDULE \n8:30 AM\nRegistration and Welcome  \n9:00 AM – 10:00 AM\nPANEL I:  Echoes of Early Modernity\nRuben Espinosa\, Arizona State University\nLowell Duckert\, University of Delaware \n10:15 AM – 11:15 AM\nPANEL II: The More-than-Human World\nPatricia Cahill\, Emory University\nDennis Britton\, University of British Columbia (Canada) \n11:30 AM – 1:00 PM\nLunch \n1:15 PM – 2:15 PM\nPANEL III: Race and Place\nVin Nardizzi\, University of British Columbia (Canada)\nEli Cumings\, Columbia University \n2:30 PM – 4:00 PM\nKEYNOTE CONVERSATION: Environmental Racism and Narratives of Settlement\nMadeline Sayet\, Arizona State University\nScott Manning Stevens\, Syracuse University \n  \nREGISTER HERE
URL:https://universityseminars.columbia.edu/event/environmental-and-racial-justice-in-shakespeare-studies/
LOCATION:Faculty House\, 64 Morningside Drive\, New York
CATEGORIES:Conferences/Symposia
END:VEVENT
BEGIN:VEVENT
DTSTART;TZID=America/New_York:20260429T173000
DTEND;TZID=America/New_York:20260429T220000
DTSTAMP:20260420T102859
CREATED:20251202T200733Z
LAST-MODIFIED:20251211T163238Z
UID:10000134-1777483800-1777500000@universityseminars.columbia.edu
SUMMARY:Annual Dinner and Tannenbaum Lecture
DESCRIPTION:This event is open to members of The University Seminars community only. Registration is required. \nThis year’s Tannenbaum Lecturer is Lynn Garafola and the Tannenbaum-Warner Award recipient is David Johnston. \nMORE INFORMATION TO FOLLOW
URL:https://universityseminars.columbia.edu/event/annual-dinner-and-tannenbaum-lecture/
LOCATION:Faculty House\, 64 Morningside Drive\, New York
CATEGORIES:Annual Events
END:VEVENT
BEGIN:VEVENT
DTSTART;VALUE=DATE:20260515
DTEND;VALUE=DATE:20260516
DTSTAMP:20260420T102859
CREATED:20251202T201440Z
LAST-MODIFIED:20251202T201518Z
UID:10000138-1778803200-1778889599@universityseminars.columbia.edu
SUMMARY:Final Day for Seminars in Faculty House
DESCRIPTION:
URL:https://universityseminars.columbia.edu/event/final-day-for-seminars-in-faculty-house/
LOCATION:Faculty House\, 64 Morningside Drive\, New York
END:VEVENT
END:VCALENDAR